BEGIN:VCALENDAR
VERSION:2.0
PRODID:spatie/icalendar-generator
NAME:Nivon Activiteit
X-WR-CALNAME:Nivon Activiteit
BEGIN:VTIMEZONE
TZID:UTC
BEGIN:STANDARD
DTSTART:20250723T145415
TZOFFSETFROM:+0000
TZOFFSETTO:+0000
END:STANDARD
END:VTIMEZONE
BEGIN:VEVENT
UID:69e4ec975c8ab
DTSTAMP:20260419T145415Z
SUMMARY:[Koos Vorrinkhuis] Een midweek Dao De Qi Gong voor ouder/verzorger 
 en kind
DESCRIPTION:Een unieke ontspannen en leerzame activiteit aan het einde van 
 de zomervakantie
LOCATION:Koos Vorrinkhuis  - Koudelaan 16   3749AM   Lage Vuursche 
DTSTART:20260817T193000Z
DTEND:20260821T130000Z
END:VEVENT
END:VCALENDAR