BEGIN:VCALENDAR
VERSION:2.0
PRODID:spatie/icalendar-generator
NAME:Nivon Activiteit
X-WR-CALNAME:Nivon Activiteit
BEGIN:VTIMEZONE
TZID:UTC
BEGIN:STANDARD
DTSTART:20250723T145237
TZOFFSETFROM:+0000
TZOFFSETTO:+0000
END:STANDARD
END:VTIMEZONE
BEGIN:VEVENT
UID:69e4ec3598135
DTSTAMP:20260419T145237Z
SUMMARY:[Koos Vorrinkhuis] Scheppingsschilder spel
DESCRIPTION:Genieten van rust-ruimte-creativiteit 
LOCATION:Koos Vorrinkhuis  - Koudelaan 16   3749AM   Lage Vuursche 
DTSTART:20260713T100000Z
DTEND:20260717T120000Z
END:VEVENT
END:VCALENDAR